BEGIN:VCALENDAR
VERSION:2.0
PRODID:-//Dss Solutions - ECPv6.1.3//NONSGML v1.0//EN
CALSCALE:GREGORIAN
METHOD:PUBLISH
X-ORIGINAL-URL:https://access2future.com/dss-demo-1
X-WR-CALDESC:Events for Dss Solutions
REFRESH-INTERVAL;VALUE=DURATION:PT1H
X-Robots-Tag:noindex
X-PUBLISHED-TTL:PT1H
BEGIN:VTIMEZONE
TZID:UTC
BEGIN:STANDARD
TZOFFSETFROM:+0000
TZOFFSETTO:+0000
TZNAME:UTC
DTSTART:20230101T000000
END:STANDARD
END:VTIMEZONE
BEGIN:VEVENT
DTSTART;TZID=UTC:20230825T080000
DTEND;TZID=UTC:20230825T170000
DTSTAMP:20260420T062510
CREATED:20230801T170437Z
LAST-MODIFIED:20230811T171225Z
UID:5177-1692950400-1692982800@access2future.com
SUMMARY:Web Designing Classes
DESCRIPTION:
URL:https://access2future.com/dss-demo-1/event/web-designing-classes/
LOCATION:Testing Event\, Hi-Tech city\, Hyderabad\, Telangana\, 500090\, India
CATEGORIES:Main Events
ATTACH;FMTTYPE=image/jpeg:https://access2future.com/dss-demo-1/wp-content/uploads/2023/04/col-3-thum4.jpg
END:VEVENT
END:VCALENDAR